BEGIN:VCALENDAR
VERSION:2.0
PRODID:-//Long Ridge Fire Company - ECPv6.15.20//NONSGML v1.0//EN
CALSCALE:GREGORIAN
METHOD:PUBLISH
X-ORIGINAL-URL:https://longridgefire.com
X-WR-CALDESC:Events for Long Ridge Fire Company
REFRESH-INTERVAL;VALUE=DURATION:PT1H
X-Robots-Tag:noindex
X-PUBLISHED-TTL:PT1H
BEGIN:VTIMEZONE
TZID:UTC
BEGIN:STANDARD
TZOFFSETFROM:+0000
TZOFFSETTO:+0000
TZNAME:UTC
DTSTART:20180101T000000
END:STANDARD
END:VTIMEZONE
BEGIN:VEVENT
DTSTART;TZID=UTC:20200302T200000
DTEND;TZID=UTC:20200302T220000
DTSTAMP:20260421T094642
CREATED:20190903T033935Z
LAST-MODIFIED:20190903T033935Z
UID:549-1583179200-1583186400@longridgefire.com
SUMMARY:LRFC Annual Meeting
DESCRIPTION:The LRFC holds a regular monthly meeting of its membership to conduct company business. The meeting is led by the President with active involvement of the operational and administrative officers. It is held on the first Monday of every month\, with the exception of when holidays fall on Mondays. The meeting that occurs in March is considered the Company’s Annual Meeting where the election of officers takes place.
URL:https://longridgefire.com/event/lrfc-annual-meeting/
LOCATION:LRFC Station 1\, 366 Old Long Ridge Road\, Stamford\, CT\, 06903\, United States
ORGANIZER;CN="Natasha Nau%2C President":MAILTO:nnau@longridgefire.com
END:VEVENT
BEGIN:VEVENT
DTSTART;TZID=UTC:20200203T200000
DTEND;TZID=UTC:20200203T220000
DTSTAMP:20260421T094642
CREATED:20190903T033642Z
LAST-MODIFIED:20190903T033642Z
UID:544-1580760000-1580767200@longridgefire.com
SUMMARY:LRFC Monthly Meeting
DESCRIPTION:The LRFC holds a regular monthly meeting of its membership to conduct company business. The meeting is led by the President with active involvement of the operational and administrative officers. It is held on the first Monday of every month\, with the exception of when holidays fall on Mondays.
URL:https://longridgefire.com/event/lrfc-monthly-meeting-6/
LOCATION:LRFC Station 1\, 366 Old Long Ridge Road\, Stamford\, CT\, 06903\, United States
ORGANIZER;CN="Natasha Nau%2C President":MAILTO:nnau@longridgefire.com
END:VEVENT
BEGIN:VEVENT
DTSTART;TZID=UTC:20200106T200000
DTEND;TZID=UTC:20200106T220000
DTSTAMP:20260421T094642
CREATED:20190903T033515Z
LAST-MODIFIED:20190903T033515Z
UID:542-1578340800-1578348000@longridgefire.com
SUMMARY:LRFC Monthly Meeting
DESCRIPTION:The LRFC holds a regular monthly meeting of its membership to conduct company business. The meeting is led by the President with active involvement of the operational and administrative officers. It is held on the first Monday of every month\, with the exception of when holidays fall on Mondays.
URL:https://longridgefire.com/event/lrfc-monthly-meeting-5/
LOCATION:LRFC Station 1\, 366 Old Long Ridge Road\, Stamford\, CT\, 06903\, United States
ORGANIZER;CN="Natasha Nau%2C President":MAILTO:nnau@longridgefire.com
END:VEVENT
BEGIN:VEVENT
DTSTART;TZID=UTC:20191214T170000
DTEND;TZID=UTC:20191214T230000
DTSTAMP:20260421T094642
CREATED:20191113T033710Z
LAST-MODIFIED:20191127T014809Z
UID:1326-1576342800-1576364400@longridgefire.com
SUMMARY:LRFC Holiday Party
DESCRIPTION:All LRFC Members and Family- \nPlease join us for our annual holiday party at 5pm on Saturday December 14th! E-vites will be sent soon! Please RSVP.
URL:https://longridgefire.com/event/lrfc-holiday-party/
END:VEVENT
BEGIN:VEVENT
DTSTART;TZID=UTC:20191202T200000
DTEND;TZID=UTC:20191202T220000
DTSTAMP:20260421T094642
CREATED:20190903T033328Z
LAST-MODIFIED:20190903T033328Z
UID:539-1575316800-1575324000@longridgefire.com
SUMMARY:LRFC Monthly Meeting
DESCRIPTION:The LRFC holds a regular monthly meeting of its membership to conduct company business. The meeting is led by the President with active involvement of the operational and administrative officers. It is held on the first Monday of every month\, with the exception of when holidays fall on Mondays.
URL:https://longridgefire.com/event/lrfc-monthly-meeting-4/
LOCATION:LRFC Station 1\, 366 Old Long Ridge Road\, Stamford\, CT\, 06903\, United States
ORGANIZER;CN="Natasha Nau%2C President":MAILTO:nnau@longridgefire.com
END:VEVENT
BEGIN:VEVENT
DTSTART;TZID=UTC:20191104T200000
DTEND;TZID=UTC:20191104T220000
DTSTAMP:20260421T094642
CREATED:20190903T033118Z
LAST-MODIFIED:20190903T033118Z
UID:537-1572897600-1572904800@longridgefire.com
SUMMARY:LRFC Monthly Meeting
DESCRIPTION:The LRFC holds a regular monthly meeting of its membership to conduct company business. The meeting is led by the President with active involvement of the operational and administrative officers. It is held on the first Monday of every month\, with the exception of when holidays fall on Mondays.
URL:https://longridgefire.com/event/lrfc-monthly-meeting-3/
LOCATION:LRFC Station 1\, 366 Old Long Ridge Road\, Stamford\, CT\, 06903\, United States
ORGANIZER;CN="Natasha Nau%2C President":MAILTO:nnau@longridgefire.com
END:VEVENT
BEGIN:VEVENT
DTSTART;TZID=UTC:20191013T120000
DTEND;TZID=UTC:20191013T150000
DTSTAMP:20260421T094642
CREATED:20190903T023514Z
LAST-MODIFIED:20190903T023514Z
UID:514-1570968000-1570978800@longridgefire.com
SUMMARY:Rain Date: LRFC Annual Open House
DESCRIPTION:If there is rain in the forecast on Saturday October 12\, 2019\, the LRFC will hold its open house the following day (10/13/19). Same times\, same location\, same fun activities!
URL:https://longridgefire.com/event/rain-date-lrfc-annual-open-house/
ORGANIZER;CN="Natasha Nau%2C President":MAILTO:nnau@longridgefire.com
END:VEVENT
BEGIN:VEVENT
DTSTART;TZID=UTC:20191012T120000
DTEND;TZID=UTC:20191012T150000
DTSTAMP:20260421T094642
CREATED:20190903T023216Z
LAST-MODIFIED:20191002T004301Z
UID:509-1570881600-1570892400@longridgefire.com
SUMMARY:LRFC Annual Open House
DESCRIPTION:The annual LRFC Open House generally features fire safety demos\, raffles\, information sessions on fire gear and equipment\, fire engine rides\, food\, drinks\, pumpkins\, pony rides\, hay bales\, cornstalks\, fire hats and coloring books….and of course donation boots! 2019 is a special year where we will host DJ music\, face painting\, games and offer free smoke/carbon monoxide combination detectors plus home safety visits! \nPlease click here to view our flier and share with your friends and family: LRFC OPEN HOUSE FLIER \nEntry is free – donations (big or small) are appreciated!! You can make cash or check donations in person or donate online ahead of time (below)! \nPlease support the Long Ridge Fire Company and make your donation today!USD
URL:https://longridgefire.com/event/lrfc-annual-open-house/
LOCATION:LRFC Station 1\, 366 Old Long Ridge Road\, Stamford\, CT\, 06903\, United States
ORGANIZER;CN="Natasha Nau%2C President":MAILTO:nnau@longridgefire.com
END:VEVENT
BEGIN:VEVENT
DTSTART;TZID=UTC:20191007T200000
DTEND;TZID=UTC:20191007T220000
DTSTAMP:20260421T094642
CREATED:20190903T032959Z
LAST-MODIFIED:20190903T032959Z
UID:534-1570478400-1570485600@longridgefire.com
SUMMARY:LRFC Monthly Meeting
DESCRIPTION:The LRFC holds a regular monthly meeting of its membership to conduct company business. The meeting is led by the President with active involvement of the operational and administrative officers. It is held on the first Monday of every month\, with the exception of when holidays fall on Mondays.
URL:https://longridgefire.com/event/lrfc-monthly-meeting-2/
LOCATION:LRFC Station 1\, 366 Old Long Ridge Road\, Stamford\, CT\, 06903\, United States
ORGANIZER;CN="Natasha Nau%2C President":MAILTO:nnau@longridgefire.com
END:VEVENT
BEGIN:VEVENT
DTSTART;VALUE=DATE:20191006
DTEND;VALUE=DATE:20191013
DTSTAMP:20260421T094642
CREATED:20190903T025032Z
LAST-MODIFIED:20190903T025032Z
UID:525-1570320000-1570924799@longridgefire.com
SUMMARY:National Fire Prevention Week
DESCRIPTION:Join the LRFC in recognizing National Fire Prevention Week (10/6-10/12/19). Please visit our Fire Marshal’s page for fire prevention tips!
URL:https://longridgefire.com/event/national-fire-prevention-week/
END:VEVENT
BEGIN:VEVENT
DTSTART;TZID=UTC:20190928T130000
DTEND;TZID=UTC:20190928T170000
DTSTAMP:20260421T094642
CREATED:20190903T024138Z
LAST-MODIFIED:20190927T140743Z
UID:517-1569675600-1569690000@longridgefire.com
SUMMARY:CANCELLED-LRFC Annual Clam Bake
DESCRIPTION:*THIS EVENT HAS BEEN CANCELLED DUE TO LOW CONFIRMED ATTENDANCE. \nThe LRFC welcomes its members and their families/friends to its annual clambake. Typical activities include clams\, grilled food\, drinks\, music\, horseshoes and an overall good time! An Evite was sent out to all members with the following flier.
URL:https://longridgefire.com/event/lrfc-annual-clam-bake/
LOCATION:LRFC Station 1\, 366 Old Long Ridge Road\, Stamford\, CT\, 06903\, United States
ORGANIZER;CN="Natasha Nau%2C President":MAILTO:nnau@longridgefire.com
END:VEVENT
BEGIN:VEVENT
DTSTART;VALUE=DATE:20190914
DTEND;VALUE=DATE:20190922
DTSTAMP:20260421T094642
CREATED:20190903T024617Z
LAST-MODIFIED:20190914T125853Z
UID:519-1568419200-1569110399@longridgefire.com
SUMMARY:LRFC Semi-Annual Fund Drive Letter Mailing
DESCRIPTION:The LRFC’s annual fund drive letter mailing goes out to North Stamford residents over these two weeks. Be on the lookout for it to reply with your generous donation! Any amount is appreciated! This year’s letter features some new photos\, information and most importantly\, a link to this new and improved website! \nAny questions\, please do not hesitate to contact us!
URL:https://longridgefire.com/event/lrfc-semi-annual-fund-drive-letter/
ORGANIZER;CN="Natasha Nau%2C President":MAILTO:nnau@longridgefire.com
END:VEVENT
BEGIN:VEVENT
DTSTART;TZID=UTC:20190909T200000
DTEND;TZID=UTC:20190909T220000
DTSTAMP:20260421T094642
CREATED:20190903T032624Z
LAST-MODIFIED:20190903T032624Z
UID:529-1568059200-1568066400@longridgefire.com
SUMMARY:LRFC Monthly Meeting
DESCRIPTION:The LRFC holds a regular monthly meeting of its membership to conduct company business. The meeting is led by the President with active involvement of the operational and administrative officers. It is held on the first Monday of every month\, with the exception of when holidays fall on Mondays.
URL:https://longridgefire.com/event/lrfc-monthly-meeting/
LOCATION:LRFC Station 1\, 366 Old Long Ridge Road\, Stamford\, CT\, 06903\, United States
ORGANIZER;CN="Natasha Nau%2C President":MAILTO:nnau@longridgefire.com
END:VEVENT
END:VCALENDAR